BEGIN:VCALENDAR
VERSION:2.0
PRODID:-//wp-events-plugin.com//7.2.3.1//EN
TZID:Europe/London
X-WR-TIMEZONE:Europe/London
BEGIN:VEVENT
UID:0-8140@devoncoroners.org.uk
DTSTART;TZID=Europe/London:20260428T100000
DTEND;TZID=Europe/London:20260428T160000
DTSTAMP:20251205T150640Z
URL:https://www.devoncoroners.org.uk/hearings/john-patrick-lundy-inquest-n
 o-jury-2/
SUMMARY:John Patrick LUNDY - Inquest\, no jury
DESCRIPTION:Age: 65 years\n\nDate and Place of Death: 8th April 2024 in Der
 riford Hospital\, Plymouth
CATEGORIES:Inquests
LOCATION:Plymouth Coroner's Court\, 1 Derriford Park\, Plymouth\, PL6 5QZ\,
  United Kingdom
GEO:50.415958;-4.122053
X-APPLE-STRUCTURED-LOCATION;VALUE=URI;X-ADDRESS=1 Derriford Park\, Plymouth
 \, PL6 5QZ\, United Kingdom;X-APPLE-RADIUS=100;X-TITLE=Plymouth Coroner's 
 Court:geo:50.415958,-4.122053
END:VEVENT
BEGIN:VTIMEZONE
TZID:Europe/London
X-LIC-LOCATION:Europe/London
BEGIN:DAYLIGHT
DTSTART:20260329T020000
TZOFFSETFROM:+0000
TZOFFSETTO:+0100
TZNAME:BST
END:DAYLIGHT
END:VTIMEZONE
END:VCALENDAR