BEGIN:VCALENDAR
VERSION:2.0
PRODID:-//wp-events-plugin.com//7.2.3.1//EN
TZID:Europe/London
X-WR-TIMEZONE:Europe/London
BEGIN:VEVENT
UID:0-7851@devoncoroners.org.uk
DTSTART;TZID=Europe/London;VALUE=DATE:20251006
DTEND;TZID=Europe/London;VALUE=DATE:20251007
DTSTAMP:20251006T154444Z
URL:https://www.devoncoroners.org.uk/hearings/gordon-phillip-ashley-rowe-i
 nquest-opening-2/
SUMMARY:Gordon Phillip Ashley ROWE - Inquest opening
DESCRIPTION:Date of birth:\n\nDate of death:
CATEGORIES:Openings
LOCATION:Exeter Coroner's Court\, County Hall\, County Hall\, Exeter\, Devo
 n\, EX2 4QD\, United Kingdom
GEO:50.714497;-3.517693
X-APPLE-STRUCTURED-LOCATION;VALUE=URI;X-ADDRESS=County Hall\, Exeter\, Devo
 n\, EX2 4QD\, United Kingdom;X-APPLE-RADIUS=100;X-TITLE=Exeter Coroner's C
 ourt\, County Hall:geo:50.714497,-3.517693
END:VEVENT
BEGIN:VTIMEZONE
TZID:Europe/London
X-LIC-LOCATION:Europe/London
BEGIN:DAYLIGHT
DTSTART:20250330T020000
TZOFFSETFROM:+0000
TZOFFSETTO:+0100
TZNAME:BST
END:DAYLIGHT
END:VTIMEZONE
END:VCALENDAR