BEGIN:VCALENDAR
VERSION:2.0
PRODID:-//wp-events-plugin.com//7.2.3.1//EN
TZID:Europe/London
X-WR-TIMEZONE:Europe/London
BEGIN:VEVENT
UID:0-2901@devoncoroners.org.uk
DTSTART;TZID=Europe/London:20210903T000000
DTEND;TZID=Europe/London:20210903T000000
DTSTAMP:20210903T145953Z
URL:https://www.devoncoroners.org.uk/hearings/gerald-wallace-bailey-inques
 t-opening/
SUMMARY:Gerald Wallace BAILEY - Inquest opening
DESCRIPTION:Date of Birth: 7th June 1927\n\nDate of Death: 27th August 2021
CATEGORIES:Openings
END:VEVENT
BEGIN:VTIMEZONE
TZID:Europe/London
X-LIC-LOCATION:Europe/London
BEGIN:DAYLIGHT
DTSTART:20210328T020000
TZOFFSETFROM:+0000
TZOFFSETTO:+0100
TZNAME:BST
END:DAYLIGHT
END:VTIMEZONE
END:VCALENDAR