BEGIN:VCALENDAR
VERSION:2.0
PRODID:-//wp-events-plugin.com//7.2.3.1//EN
TZID:Europe/London
X-WR-TIMEZONE:Europe/London
BEGIN:VEVENT
UID:0-2996@devoncoroners.org.uk
DTSTART;TZID=Europe/London;VALUE=DATE:20211001
DTEND;TZID=Europe/London;VALUE=DATE:20211002
DTSTAMP:20211004T083904Z
URL:https://www.devoncoroners.org.uk/hearings/daniel-corr-inquest-opening/
SUMMARY:Daniel CORR - Inquest Opening
DESCRIPTION:Date of Birth: 27th January 1974\n\nDate of Death: 7th June 202
 1
CATEGORIES:Openings
LOCATION:Bristol Civil Justice Centre\, 2 Redcliff Street\, Redcliffe\, Bri
 stol\, BS1 6GR\, United Kingdom
GEO:51.452545;-2.590658
X-APPLE-STRUCTURED-LOCATION;VALUE=URI;X-ADDRESS=2 Redcliff Street\, Redclif
 fe\, Bristol\, BS1 6GR\, United Kingdom;X-APPLE-RADIUS=100;X-TITLE=Bristol
  Civil Justice Centre:geo:51.452545,-2.590658
END:VEVENT
BEGIN:VTIMEZONE
TZID:Europe/London
X-LIC-LOCATION:Europe/London
BEGIN:DAYLIGHT
DTSTART:20210328T020000
TZOFFSETFROM:+0000
TZOFFSETTO:+0100
TZNAME:BST
END:DAYLIGHT
END:VTIMEZONE
END:VCALENDAR