BEGIN:VCALENDAR
VERSION:2.0
PRODID:-//wp-events-plugin.com//7.2.3.1//EN
TZID:Europe/London
X-WR-TIMEZONE:Europe/London
BEGIN:VEVENT
UID:0-3391@devoncoroners.org.uk
DTSTART;TZID=Europe/London;VALUE=DATE:20220204
DTEND;TZID=Europe/London;VALUE=DATE:20220205
DTSTAMP:20220204T111538Z
URL:https://www.devoncoroners.org.uk/hearings/brian-edward-newport-inquest
 -opening/
SUMMARY:Brian Edward Newport - Inquest Opening
DESCRIPTION:Date of Birth: 13th June 1936\n\nDate of Death: 31st January 20
 22
CATEGORIES:Openings
END:VEVENT
BEGIN:VTIMEZONE
TZID:Europe/London
X-LIC-LOCATION:Europe/London
BEGIN:STANDARD
DTSTART:20211031T010000
TZOFFSETFROM:+0100
TZOFFSETTO:+0000
TZNAME:GMT
END:STANDARD
END:VTIMEZONE
END:VCALENDAR