BEGIN:VCALENDAR
VERSION:2.0
PRODID:-//wp-events-plugin.com//7.2.3.1//EN
TZID:Europe/London
X-WR-TIMEZONE:Europe/London
BEGIN:VEVENT
UID:0-8736@devoncoroners.org.uk
DTSTART;TZID=Europe/London:20260512T100000
DTEND;TZID=Europe/London:20260512T140000
DTSTAMP:20260422T101154Z
URL:https://www.devoncoroners.org.uk/hearings/ann-muriel-turner-inquest-no
 -jury/
SUMMARY:Ann Muriel TURNER - Inquest\, no jury
DESCRIPTION:Age: 77\n\nDate and Place of Death: 22nd July 2024 in Plymouth
CATEGORIES:Inquests
LOCATION:Plymouth Coroner's Court\, 1 Derriford Park\, Plymouth\, PL6 5QZ\,
  United Kingdom
GEO:50.415958;-4.122053
X-APPLE-STRUCTURED-LOCATION;VALUE=URI;X-ADDRESS=1 Derriford Park\, Plymouth
 \, PL6 5QZ\, United Kingdom;X-APPLE-RADIUS=100;X-TITLE=Plymouth Coroner's 
 Court:geo:50.415958,-4.122053
END:VEVENT
BEGIN:VTIMEZONE
TZID:Europe/London
X-LIC-LOCATION:Europe/London
BEGIN:DAYLIGHT
DTSTART:20260329T020000
TZOFFSETFROM:+0000
TZOFFSETTO:+0100
TZNAME:BST
END:DAYLIGHT
END:VTIMEZONE
END:VCALENDAR